BEGIN:VCALENDAR
VERSION:2.0
PRODID:icalendar-ruby
CALSCALE:GREGORIAN
METHOD:PUBLISH
BEGIN:VEVENT
DTSTAMP:20260424T143959Z
UID:85-4684@mbcdallas.com
DTSTART:20260531T150000Z
DTEND:20260607T163000Z
CLASS:PUBLIC
CREATED:20260423T100123
DESCRIPTION:
LAST-MODIFIED:20260423T100123
LOCATION:
SUMMARY:Graduation Sunday
URL;VALUE=URI:https://mbcdallas.com/events/graduation-sunday/2026-05-31
ATTACH;FILENAME=GraduationSunday-TITLEGRAPHIC-800x450.jpg;FMTTYPE=image/jpe
 g:https://dq5pwpg1q8ru0.cloudfront.net/2025/05/22/22/28/19/8fc3409d-339f-4
 8f8-b891-e2c1106d1a1d/GraduationSunday-TITLEGRAPHIC-800x450.jpg
END:VEVENT
END:VCALENDAR
